BEGIN:VCALENDAR
X-WR-TIMEZONE:Europe/Berlin
X-WR-CALNAME:rbb-Kalender
VERSION:2.0
METHOD:PUBLISH
CALSCALE:GREGORIAN
PRODID:rbb-CMS DAY
BEGIN:VEVENT
CLASS:PUBLIC
URL:http://www.rbb-online.de/content/rbb/rbb/luzyca/archiv/_u_yca_vom_25_05_2013/dissen_im_mittelalterfieber.html
DTEND:20130525T133000
DTSTART:20130525T133000
UID:/content/rbb/rbb/luzyca/archiv/_u_yca_vom_25_05_2013/dissen_im_mittelalterfieber
DTSTAMP:20140406T181645
DESCRIPTION:Wie die Slawen vor mehr als 1000 Jahren gelebt haben - das können Sie jetzt in Dissen erleben. Dazu wurden Grubenhäuser nach archäologischen Funden aufgebaut.
SUMMARY:Dissen im Mittelalterfieber
END:VEVENT
END:VCALENDAR
