BEGIN:VCALENDAR
X-WR-TIMEZONE:Europe/Berlin
X-WR-CALNAME:rbb-Kalender
VERSION:2.0
METHOD:PUBLISH
CALSCALE:GREGORIAN
PRODID:rbb-CMS DAY
BEGIN:VEVENT
CLASS:PUBLIC
URL:http://www.rbb-online.de/content/rbb/rbb/luzyca/archiv/_u_yca_vom_25_05_2013/landschleicher_aus.html
DTEND:20130525T133000
DTSTART:20130525T133000
UID:/content/rbb/rbb/luzyca/archiv/_u_yca_vom_25_05_2013/landschleicher_aus
DTSTAMP:20140406T181628
DESCRIPTION:Die wendische Landschleicherin ist ein zweites Mal in Briesen unterwegs.
SUMMARY:Landschleicher aus Briesen
END:VEVENT
END:VCALENDAR
