BEGIN:VCALENDAR
X-WR-TIMEZONE:Europe/Berlin
X-WR-CALNAME:rbb-Kalender
VERSION:2.0
METHOD:PUBLISH
CALSCALE:GREGORIAN
PRODID:rbb-CMS DAY
BEGIN:VEVENT
CLASS:PUBLIC
URL:http://www.rbb-online.de/content/rbb/rbb/luzyca/archiv/_u_yca_vom_25_05_2013/wendische_hochzeit.html
DTEND:20130525T133000
DTSTART:20130525T133000
UID:/content/rbb/rbb/luzyca/archiv/_u_yca_vom_25_05_2013/wendische_hochzeit
DTSTAMP:20140406T181657
DESCRIPTION:Nach mehr als 120 Jahren ist in Naundorf bei Forst wieder erstmals eine echte sorbisch-wendische Hochzeit gefeiert worden. Ein Teil der Gäste kam in Festtagstracht in die Kirche.
SUMMARY:Wendische Hochzeit
END:VEVENT
END:VCALENDAR
