BEGIN:VCALENDAR
X-WR-TIMEZONE:Europe/Berlin
X-WR-CALNAME:rbb-Kalender
VERSION:2.0
METHOD:PUBLISH
CALSCALE:GREGORIAN
PRODID:rbb-CMS DAY
BEGIN:VEVENT
CLASS:PUBLIC
URL:http://www.rbb-online.de/content/rbb/rbb/luzyca/archiv/sybaliks-jahresrueckblick/sybaliks-jahresrueckblick.html
DTEND:20131214T131500
DTSTART:20131214T131500
UID:/content/rbb/rbb/luzyca/archiv/sybaliks-jahresrueckblick/sybaliks-jahresrueckblick
DTSTAMP:20140404T223900
DESCRIPTION:Jurij Kochs Satirische Szenen mit der von ihm geschaffenen Figur des Šybalik beenden seit Jahren jede Sendung des Magazins Luzyca.\n\n\n
SUMMARY:Šybaliks Jahresrückblick
END:VEVENT
END:VCALENDAR
