BEGIN:VCALENDAR
X-WR-TIMEZONE:Europe/Berlin
X-WR-CALNAME:rbb-Kalender
VERSION:2.0
METHOD:PUBLISH
CALSCALE:GREGORIAN
PRODID:rbb-CMS DAY
BEGIN:VEVENT
CLASS:PUBLIC
URL:http://www.rbb-online.de/content/rbb/rbb/ozon/archiv/beitraege/die_unendliche_freiheit.html
DTEND:20130422T221500
DTSTART:20130422T221500
UID:/content/rbb/rbb/ozon/archiv/beitraege/die_unendliche_freiheit
DTSTAMP:20140405T173305
DESCRIPTION:Die Sehnsucht nach der großen Liebe ist ungebrochen. Doch hohe  Scheidungsraten und immer mehr Singles belegen, wie schwer es ist, den  passenden Partner zu finden.
SUMMARY:Die unendliche Freiheit der Wahl
END:VEVENT
END:VCALENDAR
