BEGIN:VCALENDAR
X-WR-TIMEZONE:Europe/Berlin
X-WR-CALNAME:rbb-Kalender
VERSION:2.0
METHOD:PUBLISH
CALSCALE:GREGORIAN
PRODID:rbb-CMS DAY
BEGIN:VEVENT
CLASS:PUBLIC
URL:http://www.rbb-online.de/content/rbb/rbb/ozon/archiv/beitraege/giganten_im_ansturm.html
DTEND:20121112T221500
DTSTART:20121112T221500
UID:/content/rbb/rbb/ozon/archiv/beitraege/giganten_im_ansturm
DTSTAMP:20140405T174729
DESCRIPTION:Nacht für Nacht fahren beim Windenergieanlagenhersteller Enercon in Magdeburg-Rothensee Schwerlasttransporter los. Viele in die Uckermark, wo wöchentlich ein neuer Riese wächst. Über 3000 Windräder stehen bereits in Brandenburg, brachten viereinhalb tausend Arbeitsplätze, aber auch umstellte Dörfer und zerstörte Landschaften.
SUMMARY:Giganten im Ansturm
END:VEVENT
END:VCALENDAR
