BEGIN:VCALENDAR
X-WR-TIMEZONE:Europe/Berlin
X-WR-CALNAME:rbb-Kalender
VERSION:2.0
METHOD:PUBLISH
CALSCALE:GREGORIAN
PRODID:rbb-CMS DAY
BEGIN:VEVENT
CLASS:PUBLIC
URL:http://www.rbb-online.de/content/rbb/rbb/ozon/archiv/beitraege/kindheit_in_brandenburg.html
DTEND:20130513T221500
DTSTART:20130513T221500
UID:/content/rbb/rbb/ozon/archiv/beitraege/kindheit_in_brandenburg
DTSTAMP:20140405T174644
DESCRIPTION:Das Industriezeitalter beutete lange auch Kinder aus und ließ sie früh altern. Selbst in Fortschrittsländern wie den USA und Deutschland. Und doch brachten die letzten einhundert Jahre einen sozialen Wandel, wie keine Zeit zuvor.
SUMMARY:Kindheit in Brandenburg
END:VEVENT
END:VCALENDAR
