BEGIN:VCALENDAR
X-WR-TIMEZONE:Europe/Berlin
X-WR-CALNAME:rbb-Kalender
VERSION:2.0
METHOD:PUBLISH
CALSCALE:GREGORIAN
PRODID:rbb-CMS DAY
BEGIN:VEVENT
CLASS:PUBLIC
URL:http://www.rbb-online.de/content/rbb/rbb/ozon/archiv/beitraege/ohnmacht_eines_dorfes.html
DTEND:20121112T221500
DTSTART:20121112T221500
UID:/content/rbb/rbb/ozon/archiv/beitraege/ohnmacht_eines_dorfes
DTSTAMP:20140405T174710
DESCRIPTION:Die Einwohner von Alt Zeschdorf im Oderbruch waren anfangs für Windenergie. Nun wehren sie sich dagegen, dass ihr Dorf völlig umstellt wird. Die Interessenskonflikte und Tücken der Regionalplanung.
SUMMARY:Ohnmacht eines Dorfes
END:VEVENT
END:VCALENDAR
