BEGIN:VCALENDAR
X-WR-TIMEZONE:Europe/Berlin
X-WR-CALNAME:rbb-Kalender
VERSION:2.0
METHOD:PUBLISH
CALSCALE:GREGORIAN
PRODID:rbb-CMS DAY
BEGIN:VEVENT
CLASS:PUBLIC
URL:http://www.rbb-online.de/content/rbb/rbb/ozon/archiv/beitraege/warum_maenner_anders.html
DTEND:20130513T221500
DTSTART:20130513T221500
UID:/content/rbb/rbb/ozon/archiv/beitraege/warum_maenner_anders
DTSTAMP:20140405T174640
DESCRIPTION:Langzeitarbeitslosigkeit, soziale Einbrüche treffen viele Männer härter als Frauen. Zwei Arbeiter aus dem einstigen Stahl- und Walzwerk Brandenburg an der Havel berichten über die Folgen ihrer Arbeitslosigkeit.
SUMMARY:Warum Männer anders altern
END:VEVENT
END:VCALENDAR
