BEGIN:VCALENDAR
X-WR-TIMEZONE:Europe/Berlin
X-WR-CALNAME:rbb-Kalender
VERSION:2.0
METHOD:PUBLISH
CALSCALE:GREGORIAN
PRODID:rbb-CMS DAY
BEGIN:VEVENT
CLASS:PUBLIC
URL:http://www.rbb-online.de/content/rbb/rbb/ozon/archiv/sendungen/Digitale-Kindheit.html
DTEND:20140127T221500
DTSTART:20140127T221500
UID:/content/rbb/rbb/ozon/archiv/sendungen/Digitale-Kindheit
DTSTAMP:20140404T204516
DESCRIPTION:Wer heute durch Wald und Flur wandert, wird kaum auf Kinder treffen. Anders als noch vor 20 Jahren sind Abenteuer unter freiem Himmel, sich schmutzig machen und Kratzer holen, für unseren Nachwuchs selten noch ein Thema.\n\n\n
SUMMARY:Digitale Kindheit - Leben ohne Natur?
END:VEVENT
END:VCALENDAR
