BEGIN:VCALENDAR
X-WR-TIMEZONE:Europe/Berlin
X-WR-CALNAME:rbb-Kalender
VERSION:2.0
METHOD:PUBLISH
CALSCALE:GREGORIAN
PRODID:rbb-CMS DAY
BEGIN:VEVENT
CLASS:PUBLIC
URL:http://www.rbb-online.de/content/rbb/rbb/ozon/archiv/sendungen/Pflanzen-statt-Erdoel.html
DTEND:20140224T221500
DTSTART:20140224T221500
UID:/content/rbb/rbb/ozon/archiv/sendungen/Pflanzen-statt-Erdoel
DTSTAMP:20140404T204814
DESCRIPTION:Müssen wir auf die bunte Plastikwelt verzichten, wenn das "schwarze Gold" in wenigen Jahrzehnten zu Ende geht? Fast alle Kunststoffe sind heute aus Erdöl. Wird es nach der Energiewende eine Chemiewende geben?\n\n\n
SUMMARY:Pflanzen statt Erdöl – Die Chemie der Zukunft?
END:VEVENT
END:VCALENDAR
