BEGIN:VCALENDAR
X-WR-TIMEZONE:Europe/Berlin
X-WR-CALNAME:rbb-Kalender
VERSION:2.0
METHOD:PUBLISH
CALSCALE:GREGORIAN
PRODID:rbb-CMS DAY
BEGIN:VEVENT
CLASS:PUBLIC
URL:http://www.rbb-online.de/content/rbb/rbb/ozon/archiv/sendungen/leiser-fliegen.html
DTEND:20131111T221500
DTSTART:20131111T221500
UID:/content/rbb/rbb/ozon/archiv/sendungen/leiser-fliegen
DTSTAMP:20140404T203304
DESCRIPTION:Berlin und Brandenburg waren einst die Wiege der Luftfahrt. Hier wirkte Lilienthal, es gab den ersten Motorflugplatz und auch das erste Zentrum für Konstruktion, Erprobung und Bau von Flugzeugen in Deutschland. Aber auch bedeutende Anfänge der Raketentechnik. \n\n\n
SUMMARY:Leiser fliegen – Luftfahrtforschung in Berlin Brandenburg
END:VEVENT
END:VCALENDAR
