BEGIN:VCALENDAR
X-WR-TIMEZONE:Europe/Berlin
X-WR-CALNAME:rbb-Kalender
VERSION:2.0
METHOD:PUBLISH
CALSCALE:GREGORIAN
PRODID:rbb-CMS DAY
BEGIN:VEVENT
CLASS:PUBLIC
URL:http://www.rbb-online.de/content/rbb/rbb/ozon/archiv/sendungen/liebesforschung.html
DTEND:20130422T221500
DTSTART:20130422T221500
UID:/content/rbb/rbb/ozon/archiv/sendungen/liebesforschung
DTSTAMP:20140404T203148
DESCRIPTION:Noch nie in der Menschheitsgeschichte gab es solch eine Freiheit in Liebesdingen. Hautfarbe, Geschlecht, Religion, gesellschaftliche Konventionen - in der westlichen Welt gibt es keine unüberwindbaren Hürden mehr.\n\n\n
SUMMARY:Liebesforschung - Zwischen Steinzeit und Partnerbörsen
END:VEVENT
END:VCALENDAR
