BEGIN:VCALENDAR
X-WR-TIMEZONE:Europe/Berlin
X-WR-CALNAME:rbb-Kalender
VERSION:2.0
METHOD:PUBLISH
CALSCALE:GREGORIAN
PRODID:rbb-CMS DAY
BEGIN:VEVENT
CLASS:PUBLIC
URL:http://www.rbb-online.de/content/rbb/rbb/panda/archiv/folge-233---folge-278/panda--gorilla---co----folge-259.html
DTEND:20140201T175000
DTSTART:20140201T170500
UID:/content/rbb/rbb/panda/archiv/folge-233---folge-278/panda--gorilla---co----folge-259
DTSTAMP:20140404T172527
DESCRIPTION:Okapi-Weibchen Batouri ist das erste Mal Mutter geworden! Lange Zeit war nicht klar gewesen, ob die Deckversuche von Okapi-Mann Steve erfolgreich waren.\n\n\n
SUMMARY:Panda, Gorilla & Co. - Folge 259
END:VEVENT
END:VCALENDAR
