BEGIN:VCALENDAR
X-WR-TIMEZONE:Europe/Berlin
X-WR-CALNAME:rbb-Kalender
VERSION:2.0
METHOD:PUBLISH
CALSCALE:GREGORIAN
PRODID:rbb-CMS DAY
BEGIN:VEVENT
CLASS:PUBLIC
URL:http://www.rbb-online.de/content/rbb/rbb/panda/archiv/folge-233---folge-278/panda--gorilla---co----folge-263.html
DTEND:20140301T175000
DTSTART:20140301T170500
UID:/content/rbb/rbb/panda/archiv/folge-233---folge-278/panda--gorilla---co----folge-263
DTSTAMP:20140404T171522
DESCRIPTION:Wenn Tierpfleger Detlef Liebschwager morgens um sechs Uhr zur Arbeit kommt, beginnt der Tag im Zoo für ihn zunächst mit einem Rundgang im Raubtierhaus.\n\n\n
SUMMARY:Panda, Gorilla & Co. - Folge 263
END:VEVENT
END:VCALENDAR
