BEGIN:VCALENDAR
X-WR-TIMEZONE:Europe/Berlin
X-WR-CALNAME:rbb-Kalender
VERSION:2.0
METHOD:PUBLISH
CALSCALE:GREGORIAN
PRODID:rbb-CMS DAY
BEGIN:VEVENT
CLASS:PUBLIC
URL:http://www.rbb-online.de/content/rbb/rbb/panda/archiv/folge-233---folge-278/panda__gorilla___co_242.html
DTEND:20131005T175000
DTSTART:20131005T170500
UID:/content/rbb/rbb/panda/archiv/folge-233---folge-278/panda__gorilla___co_242
DTSTAMP:20140404T172241
DESCRIPTION:Bei den Uganda-Giraffen im Tierpark muss Giraffenkind Jule immer noch mit der Flasche gefüttert werden. Mittlerweile sind Tierpfleger Enrico Rödiger und das kleine Giraffenmädchen aber ein eingespieltes Team.\n
SUMMARY:Panda, Gorilla & Co. - Folge 242
END:VEVENT
END:VCALENDAR
