BEGIN:VCALENDAR
X-WR-TIMEZONE:Europe/Berlin
X-WR-CALNAME:rbb-Kalender
VERSION:2.0
METHOD:PUBLISH
CALSCALE:GREGORIAN
PRODID:rbb-CMS DAY
BEGIN:VEVENT
CLASS:PUBLIC
URL:http://www.rbb-online.de/content/rbb/rbb/panda/archiv/folge-233---folge-278/panda__gorilla___co_244.html
DTEND:20131019T175000
DTSTART:20131019T170500
UID:/content/rbb/rbb/panda/archiv/folge-233---folge-278/panda__gorilla___co_244
DTSTAMP:20140404T171811
DESCRIPTION:Das kleine Kapuzineräffchen Sina soll langsam an das Leben mit seinen Artgenossen gewöhnt werden. Die Handaufzucht wurde bislang in einem separaten Käfig von den Tierpflegern groß gezogen.\n
SUMMARY:Panda, Gorilla & Co. - Folge 244
END:VEVENT
END:VCALENDAR
