BEGIN:VCALENDAR
X-WR-TIMEZONE:Europe/Berlin
X-WR-CALNAME:rbb-Kalender
VERSION:2.0
METHOD:PUBLISH
CALSCALE:GREGORIAN
PRODID:rbb-CMS DAY
BEGIN:VEVENT
CLASS:PUBLIC
URL:http://www.rbb-online.de/content/rbb/rbb/panda/archiv/folge-233---folge-278/panda__gorilla___co_246.html
DTEND:20131102T175000
DTSTART:20131102T170500
UID:/content/rbb/rbb/panda/archiv/folge-233---folge-278/panda__gorilla___co_246
DTSTAMP:20140404T171653
DESCRIPTION:Bei den Reptilien im Tierpark ist heute Großkampftag angesagt: Die Anlage der beiden Hechtalligatoren Eugen und Zicke muss mit einem Hochdruck-Reiniger sauber gemacht werden.\n
SUMMARY:Panda, Gorilla & Co. - Folge 246
END:VEVENT
END:VCALENDAR
