BEGIN:VCALENDAR
X-WR-TIMEZONE:Europe/Berlin
X-WR-CALNAME:rbb-Kalender
VERSION:2.0
METHOD:PUBLISH
CALSCALE:GREGORIAN
PRODID:rbb-CMS DAY
BEGIN:VEVENT
CLASS:PUBLIC
URL:http://www.rbb-online.de/content/rbb/rbb/panda/archiv/folge-233---folge-278/panda__gorilla___co_248.html
DTEND:20131116T175000
DTSTART:20131116T170500
UID:/content/rbb/rbb/panda/archiv/folge-233---folge-278/panda__gorilla___co_248
DTSTAMP:20140404T172503
DESCRIPTION:Auf der Südamerika-Anlage im Zoo herrscht große Aufregung: Die drei kleinen Wasserschweinkinder von Mama Lucia erobern das Außengehege und sorgen damit für Irritationen bei ihren Mitbewohnern - den Guanakos.\n
SUMMARY:Panda, Gorilla & Co. - Folge 248
END:VEVENT
END:VCALENDAR
