BEGIN:VCALENDAR
X-WR-TIMEZONE:Europe/Berlin
X-WR-CALNAME:rbb-Kalender
VERSION:2.0
METHOD:PUBLISH
CALSCALE:GREGORIAN
PRODID:rbb-CMS DAY
BEGIN:VEVENT
CLASS:PUBLIC
URL:http://www.rbb-online.de/content/rbb/rbb/panda/archiv/folge-233---folge-278/panda__gorilla___co_250.html
DTEND:20131130T175000
DTSTART:20131130T170500
UID:/content/rbb/rbb/panda/archiv/folge-233---folge-278/panda__gorilla___co_250
DTSTAMP:20140404T172126
DESCRIPTION:Im Kamelrevier des Tierparks hält ein kleiner Lama-Junge namens Zorro seine Tierpflegerinnen ordentlich auf Trab!\n
SUMMARY:Panda, Gorilla & Co. - Folge 250
END:VEVENT
END:VCALENDAR
