BEGIN:VCALENDAR
X-WR-TIMEZONE:Europe/Berlin
X-WR-CALNAME:rbb-Kalender
VERSION:2.0
METHOD:PUBLISH
CALSCALE:GREGORIAN
PRODID:rbb-CMS DAY
BEGIN:VEVENT
CLASS:PUBLIC
URL:http://www.rbb-online.de/content/rbb/rbb/panda/ard_beitraege/zoobabies/zoobabies---folge-3.html
DTEND:20140407T113000
DTSTART:20140407T113000
UID:/content/rbb/rbb/panda/ard_beitraege/zoobabies/zoobabies---folge-3
DTSTAMP:20140407T113709
DESCRIPTION:Personalwechsel im Berliner Tierpark. Die neue Revierchefin bei den Bären und kleinen Raubtieren wird bereits ungeduldig erwartet.\n
SUMMARY:Die neue Chefin - Folge 3
END:VEVENT
END:VCALENDAR
