BEGIN:VCALENDAR
X-WR-TIMEZONE:Europe/Berlin
X-WR-CALNAME:rbb-Kalender
VERSION:2.0
METHOD:PUBLISH
CALSCALE:GREGORIAN
PRODID:rbb-CMS DAY
BEGIN:VEVENT
CLASS:PUBLIC
URL:http://www.rbb-online.de/content/rbb/rbb/pl/kowalskiundschmidt/archiv/20130929_1832/O-japonskich-i-polskich-nieudacznikach.html
DTEND:20130929T190000
DTSTART:20130929T183200
UID:/content/rbb/rbb/pl/kowalskiundschmidt/archiv/20130929_1832/O-japonskich-i-polskich-nieudacznikach
DTSTAMP:20140407T124810
DESCRIPTION:Hairy Geishas & Yakuzas with boobs- tak nazywa się japoński performance w „Klubie Polskich Nieudacznikow” w dzielnicy Berlin Mitte. Być może jest to jedna z najbardziej oryginalnych grup, jakie można obecnie obejrzeć w mieście. Klub wypełni się postaciami z japońskich kreskówek lub podobnymi do samurajów, które szukają w Berlinie wolności i nowej tożsamości.\n
SUMMARY:O japońskich i polskich nieudacznikach
END:VEVENT
END:VCALENDAR
