BEGIN:VCALENDAR
X-WR-TIMEZONE:Europe/Berlin
X-WR-CALNAME:rbb-Kalender
VERSION:2.0
METHOD:PUBLISH
CALSCALE:GREGORIAN
PRODID:rbb-CMS DAY
BEGIN:VEVENT
CLASS:PUBLIC
URL:http://www.rbb-online.de/content/rbb/rbb/pl/kowalskiundschmidt/archiv/20130929_1832/Zycie-jak-taniec.html
DTEND:20130929T190000
DTSTART:20130929T183200
UID:/content/rbb/rbb/pl/kowalskiundschmidt/archiv/20130929_1832/Zycie-jak-taniec
DTSTAMP:20140407T124829
DESCRIPTION:W roku 1970 nie było dla małego Mirosława ze Szczecina nic piękniejszego, jak balet w telewizji NRD. Wtedy to postanowił, że jest to miejsce w jakim chciałby się znaleźć. W czasie, gdy uczył się w Gdańsku wprowadzono stan wojenny. Mirosław ma wtedy 21 lat i postanawia wyjechać do NRD. Bez znajomości języka niemieckiego, bez dachu nad głową, bez dokumentów dociera do Berlina Wschodniego i realizuje swoje marzenie.\n
SUMMARY:Życie jak taniec
END:VEVENT
END:VCALENDAR
