BEGIN:VCALENDAR
X-WR-TIMEZONE:Europe/Berlin
X-WR-CALNAME:rbb-Kalender
VERSION:2.0
METHOD:PUBLISH
CALSCALE:GREGORIAN
PRODID:rbb-CMS DAY
BEGIN:VEVENT
CLASS:PUBLIC
URL:http://www.rbb-online.de/content/rbb/rbb/pl/kowalskiundschmidt/archiv/kowalski---schmidt-vom-02-02-2014/satyryk-z-obcym-pochodzeniem.html
DTEND:20140202T190000
DTSTART:20140202T183000
UID:/content/rbb/rbb/pl/kowalskiundschmidt/archiv/kowalski---schmidt-vom-02-02-2014/satyryk-z-obcym-pochodzeniem
DTSTAMP:20140405T193531
DESCRIPTION:Paul Bokowski mieszka w berlińskiej dzielnicy Wedding, jego rodzice pochodzą z Polski. W swoich historiach opowiada o absurdach życia codziennego, o polskich przesiedleńcach, którzy gubią się w ‘labyryncie’ języka niemieckiego , o dziwnych praktykach seksualnych mieszkańców dzielnicy Wedding i o wyborcach neonazistowskiej partii NPD z obcym pochodzeniem.\n\n\n
SUMMARY:Satyryk z obcym pochodzeniem
END:VEVENT
END:VCALENDAR
