BEGIN:VCALENDAR
X-WR-TIMEZONE:Europe/Berlin
X-WR-CALNAME:rbb-Kalender
VERSION:2.0
METHOD:PUBLISH
CALSCALE:GREGORIAN
PRODID:rbb-CMS DAY
BEGIN:VEVENT
CLASS:PUBLIC
URL:http://www.rbb-online.de/content/rbb/rbb/pl/kowalskiundschmidt/archiv/kowalski---schmidt-vom-02-03-2014.html
DTEND:20140302T190000
DTSTART:20140302T183000
UID:/content/rbb/rbb/pl/kowalskiundschmidt/archiv/kowalski---schmidt-vom-02-03-2014
DTSTAMP:20140406T173048
DESCRIPTION:++ Romowie we Wrocławiu\n\n++ Solidarność z Ukrainą\n\n++ Verdi w Theresienstadt\n\n++ Chiński dla berlińskich dzieci\n\n++ Kogiel-Mogiel: imiona\n\n\n
SUMMARY:Kowalski & Schmidt vom 02.03.2014
END:VEVENT
END:VCALENDAR
