BEGIN:VCALENDAR
X-WR-TIMEZONE:Europe/Berlin
X-WR-CALNAME:rbb-Kalender
VERSION:2.0
METHOD:PUBLISH
CALSCALE:GREGORIAN
PRODID:rbb-CMS DAY
BEGIN:VEVENT
CLASS:PUBLIC
URL:http://www.rbb-online.de/content/rbb/rbb/pl/kowalskiundschmidt/archiv/kowalski---schmidt-vom-08-12-2013/jakie-jest-made-in-poland.html
DTEND:20131208T190000
DTSTART:20131208T183000
UID:/content/rbb/rbb/pl/kowalskiundschmidt/archiv/kowalski---schmidt-vom-08-12-2013/jakie-jest-made-in-poland
DTSTAMP:20140407T125155
DESCRIPTION:Meble, kosmetyki, jachty – produkty z polski mają wysoką jakość i są bezkonkurencyjnie tanie. Ale niemieckim konsumentom nadal kojarzą się z niegospodarnością i tandetą. Aby to zmienić Polska w kampanii "Made in Poland" chce zaprezentować się jako kraj o nowoczesnej gospodarce.\n\n\n\n\n
SUMMARY:Jakie jest Made in Poland?
END:VEVENT
END:VCALENDAR
