BEGIN:VCALENDAR
X-WR-TIMEZONE:Europe/Berlin
X-WR-CALNAME:rbb-Kalender
VERSION:2.0
METHOD:PUBLISH
CALSCALE:GREGORIAN
PRODID:rbb-CMS DAY
BEGIN:VEVENT
CLASS:PUBLIC
URL:http://www.rbb-online.de/content/rbb/rbb/pl/kowalskiundschmidt/archiv/kowalski---schmidt-vom-10-11-2013.html
DTEND:20131110T190000
DTSTART:20131110T183000
UID:/content/rbb/rbb/pl/kowalskiundschmidt/archiv/kowalski---schmidt-vom-10-11-2013
DTSTAMP:20140406T172805
DESCRIPTION:+ Lądkowy zbieracz pocztówek\n\n+ Polski pracownik socjalny\n\n+ Skradzione dzieciństwo\n\n+ Zapomniana romska poetka\n\n+ Kogel-Mogel\n\n\n\n\n\n\n\n\n
SUMMARY:Kowalski & Schmidt vom 10.11.2013
END:VEVENT
END:VCALENDAR
