BEGIN:VCALENDAR
X-WR-TIMEZONE:Europe/Berlin
X-WR-CALNAME:rbb-Kalender
VERSION:2.0
METHOD:PUBLISH
CALSCALE:GREGORIAN
PRODID:rbb-CMS DAY
BEGIN:VEVENT
CLASS:PUBLIC
URL:http://www.rbb-online.de/content/rbb/rbb/pl/kowalskiundschmidt/archiv/kowalski---schmidt-vom-10-11-2013/polski-pracownik-socjalny.html
DTEND:20131110T190000
DTSTART:20131110T183000
UID:/content/rbb/rbb/pl/kowalskiundschmidt/archiv/kowalski---schmidt-vom-10-11-2013/polski-pracownik-socjalny
DTSTAMP:20140407T124913
DESCRIPTION:W latach 80tych Andreas Stasiewicz wyemigrował ze swoją żoną Krystyną z Polski do Niemiec. Początkowo w Hamburgu imał się prac dorywczych. Dzisiaj pracuje jako streetworker przy jedynym w RFN projekcie "Hoffnungsorte" pomagając bezdomnym z Europy Wschodniej i Południowo-Wschodniej.\n\n\n\n\n
SUMMARY:Polski pracownik socjalny
END:VEVENT
END:VCALENDAR
