BEGIN:VCALENDAR
X-WR-TIMEZONE:Europe/Berlin
X-WR-CALNAME:rbb-Kalender
VERSION:2.0
METHOD:PUBLISH
CALSCALE:GREGORIAN
PRODID:rbb-CMS DAY
BEGIN:VEVENT
CLASS:PUBLIC
URL:http://www.rbb-online.de/content/rbb/rbb/pl/kowalskiundschmidt/archiv/kowalski---schmidt-vom-10-11-2013/zapomniana-romska-poetka.html
DTEND:20131110T190000
DTSTART:20131110T183000
UID:/content/rbb/rbb/pl/kowalskiundschmidt/archiv/kowalski---schmidt-vom-10-11-2013/zapomniana-romska-poetka
DTSTAMP:20140407T124902
DESCRIPTION:Nie umiała czytać ani pisać, a mimo to stworzyła wiersze, które uczyniły ją sławną: Bronisława Wajs, zwana Papuszą, co po romsku oznacza „lalka”. Z powodu rzekomej zdrady tajemnic cygańskich została wykluczona ze społeczności romskiej. Papusza załamała sie psychicznie i zamilkła jako poetka. Jej tragiczny los przypomina film małżeństwa Krauze, który pokazany został na Festiwalu Filmowym w Cottbus.\n\n\n
SUMMARY:Zapomniana romska poetka
END:VEVENT
END:VCALENDAR
