BEGIN:VCALENDAR
X-WR-TIMEZONE:Europe/Berlin
X-WR-CALNAME:rbb-Kalender
VERSION:2.0
METHOD:PUBLISH
CALSCALE:GREGORIAN
PRODID:rbb-CMS DAY
BEGIN:VEVENT
CLASS:PUBLIC
URL:http://www.rbb-online.de/content/rbb/rbb/pl/kowalskiundschmidt/archiv/kowalski---schmidt-vom-13-10-2013/z-innowacyjnymi-pomysami-po-kapita-na-start.html
DTEND:20131013T190000
DTSTART:20131013T183000
UID:/content/rbb/rbb/pl/kowalskiundschmidt/archiv/kowalski---schmidt-vom-13-10-2013/z-innowacyjnymi-pomysami-po-kapita-na-start
DTSTAMP:20140407T125104
DESCRIPTION:"Biedny ale sexy" było wczoraj. Do Berlina od paru lat znowu płynie duży kapitał. Ale pieniądze te nie są inwestowane w budowę maszyn czy urządzeń, lecz w pomysły i wiedzę. Tak zwane "STARTUPY" przyciągają do niemieckiej stolicy młodych kreatywnych. Tam spotykają oni innych kreatywnych. Jedynie nawiązanie kontaktu z inwestorami jest trudnym zadaniem. Kto ma szansę na długoterminowy sukces? Dwa przykłady z berlińskiej sceny.\n\n\n\n\n
SUMMARY:Z innowacyjnymi pomysłami po kapitał na start
END:VEVENT
END:VCALENDAR
