BEGIN:VCALENDAR
X-WR-TIMEZONE:Europe/Berlin
X-WR-CALNAME:rbb-Kalender
VERSION:2.0
METHOD:PUBLISH
CALSCALE:GREGORIAN
PRODID:rbb-CMS DAY
BEGIN:VEVENT
CLASS:PUBLIC
URL:http://www.rbb-online.de/content/rbb/rbb/pl/kowalskiundschmidt/archiv/kowalski---schmidt-vom-13-10-2013/z-polsk_-dziewczyn-i-woskim-optymizmem.html
DTEND:20131013T190000
DTSTART:20131013T183000
UID:/content/rbb/rbb/pl/kowalskiundschmidt/archiv/kowalski---schmidt-vom-13-10-2013/z-polsk_-dziewczyn-i-woskim-optymizmem
DTSTAMP:20140407T125126
DESCRIPTION:Młodzi architekci i inżynierzy nie mają szans we Włoszech lub w Hiszpanii? Nie ma problemu, są tanie loty do Polski. Zaczynający pracę próbują swojego szczęścia w Krakowie, z dużym zapałem, nadzieją i pierwszymi polskimi zdaniami.\n\n\n\n\n
SUMMARY:Z polską dziewczyną i włoskim optymizmem
END:VEVENT
END:VCALENDAR
