BEGIN:VCALENDAR
X-WR-TIMEZONE:Europe/Berlin
X-WR-CALNAME:rbb-Kalender
VERSION:2.0
METHOD:PUBLISH
CALSCALE:GREGORIAN
PRODID:rbb-CMS DAY
BEGIN:VEVENT
CLASS:PUBLIC
URL:http://www.rbb-online.de/content/rbb/rbb/pl/kowalskiundschmidt/archiv/kowalski---schmidt-vom-13-10-2013/z-polskimi-korzeniami-w-berliskim-undergrundzie.html
DTEND:20131013T190000
DTSTART:20131013T183000
UID:/content/rbb/rbb/pl/kowalskiundschmidt/archiv/kowalski---schmidt-vom-13-10-2013/z-polskimi-korzeniami-w-berliskim-undergrundzie
DTSTAMP:20140407T125112
DESCRIPTION:W Polsce nazywał się Filip Czułowski. W wieku czterech lat przybył do Niemiec, rodzice byli uchodźcami politycznymi. Dzisiaj nazywa się Phil Barbee. Jest DJ´em, producentem, autorem i artystą dźwięków, jego brzmienia są międzynarodowe. Wygląda na to, że zakłada właśnie rodzinną firmę: jego czteroletnia córka też już "miksuje płyty".\n\n\n
SUMMARY:Z polskimi korzeniami w berlińskim undergrundzie
END:VEVENT
END:VCALENDAR
