BEGIN:VCALENDAR
X-WR-TIMEZONE:Europe/Berlin
X-WR-CALNAME:rbb-Kalender
VERSION:2.0
METHOD:PUBLISH
CALSCALE:GREGORIAN
PRODID:rbb-CMS DAY
BEGIN:VEVENT
CLASS:PUBLIC
URL:http://www.rbb-online.de/content/rbb/rbb/pl/kowalskiundschmidt/archiv/kowalski---schmidt-vom-16-02-2014.html
DTEND:20140216T190000
DTSTART:20140216T183000
UID:/content/rbb/rbb/pl/kowalskiundschmidt/archiv/kowalski---schmidt-vom-16-02-2014
DTSTAMP:20140406T172850
DESCRIPTION:
SUMMARY:Kowalski & Schmidt vom 16.02.2014
END:VEVENT
END:VCALENDAR
