BEGIN:VCALENDAR
X-WR-TIMEZONE:Europe/Berlin
X-WR-CALNAME:rbb-Kalender
VERSION:2.0
METHOD:PUBLISH
CALSCALE:GREGORIAN
PRODID:rbb-CMS DAY
BEGIN:VEVENT
CLASS:PUBLIC
URL:http://www.rbb-online.de/content/rbb/rbb/pl/kowalskiundschmidt/archiv/kowalski---schmidt-vom-16-02-2014/_ruch-narodowy_--polski-ruch-narodowy-mobilizuje-siy.html
DTEND:20140216T190000
DTSTART:20140216T183000
UID:/content/rbb/rbb/pl/kowalskiundschmidt/archiv/kowalski---schmidt-vom-16-02-2014/_ruch-narodowy_--polski-ruch-narodowy-mobilizuje-siy
DTSTAMP:20140405T193725
DESCRIPTION:W maju tego roku polscy narodowcy chcieliby wejść do Parlamentu Europejskiego. Ich hasła wyborcze są proste:  koścół, rodzina, ojczyzna. Za swoich wrogów uważają: homoseksualistów, obcokrajowców i innych globalistów.\n\n\n
SUMMARY:"Ruch Narodowy" - Polski Ruch Narodowy mobilizuje siły
END:VEVENT
END:VCALENDAR
