BEGIN:VCALENDAR
X-WR-TIMEZONE:Europe/Berlin
X-WR-CALNAME:rbb-Kalender
VERSION:2.0
METHOD:PUBLISH
CALSCALE:GREGORIAN
PRODID:rbb-CMS DAY
BEGIN:VEVENT
CLASS:PUBLIC
URL:http://www.rbb-online.de/content/rbb/rbb/pl/kowalskiundschmidt/archiv/kowalski---schmidt-vom-16-02-2014/berlin-le_y-na-wschodzie.html
DTEND:20140216T190000
DTSTART:20140216T183000
UID:/content/rbb/rbb/pl/kowalskiundschmidt/archiv/kowalski---schmidt-vom-16-02-2014/berlin-le_y-na-wschodzie
DTSTAMP:20140405T193656
DESCRIPTION:Nellja Veremej pochodzi z Rosji i od 20 lat mieszka w Berlinie. Swoje doświadczenia jako emigrantka w Niemczach  opisała w powieści "Berlin liegt im Osten"/ "Berlin leży na Wschodzie". Opowiada w niej o Berlinie w czasie po upadku komunizmu. Na miejsce akcji książki wybrała Alexanderplatz.  Ten subtelny portret pokolenia emigrantów i wszystkich tych, którzy pozostali tu po upadku muru berlińskiego został nagrodzony nagrodą literacką Adelbert-von- Chamisso.\n\n\n
SUMMARY:Berlin leży na Wschodzie
END:VEVENT
END:VCALENDAR
