BEGIN:VCALENDAR
X-WR-TIMEZONE:Europe/Berlin
X-WR-CALNAME:rbb-Kalender
VERSION:2.0
METHOD:PUBLISH
CALSCALE:GREGORIAN
PRODID:rbb-CMS DAY
BEGIN:VEVENT
CLASS:PUBLIC
URL:http://www.rbb-online.de/content/rbb/rbb/pl/kowalskiundschmidt/archiv/kowalski---schmidt-vom-16-03-2014/kobiety-do-broni.html
DTEND:20140316T190000
DTSTART:20140316T183000
UID:/content/rbb/rbb/pl/kowalskiundschmidt/archiv/kowalski---schmidt-vom-16-03-2014/kobiety-do-broni
DTSTAMP:20140405T193733
DESCRIPTION:Polska armia jest na szarym końcu w NATO, jeśli chodzi o udział kobiet. Minister obrony narodowej Tomasz Siemoniak chce to zmienić. Bardzo ku niezadowoleniu większości żołnierzy, którzy niechętnie chcą być dowodzeni przez kobiety oficerów. Odwiedzamy z kamerą 17 Wielkopolską Brygadę Zmechanizowaną w Międzyrzeczu.\n
SUMMARY:Kobiety do broni
END:VEVENT
END:VCALENDAR
