BEGIN:VCALENDAR
X-WR-TIMEZONE:Europe/Berlin
X-WR-CALNAME:rbb-Kalender
VERSION:2.0
METHOD:PUBLISH
CALSCALE:GREGORIAN
PRODID:rbb-CMS DAY
BEGIN:VEVENT
CLASS:PUBLIC
URL:http://www.rbb-online.de/content/rbb/rbb/pl/kowalskiundschmidt/archiv/kowalski---schmidt-vom-16-03-2014/wsparcie-dla-opieki-spoecznej.html
DTEND:20140316T190000
DTSTART:20140316T183000
UID:/content/rbb/rbb/pl/kowalskiundschmidt/archiv/kowalski---schmidt-vom-16-03-2014/wsparcie-dla-opieki-spoecznej
DTSTAMP:20140405T193556
DESCRIPTION:Od 60-tych lat tysiące imigrantów pomagało w odbudowie niemieckiego przemysłu. Zapełniali składkami kasy systemu opieki społecznej. Od upadku muru berlińskiego przyjeżdżają do Berlina przede wszystkim obywatele Unii – większość z nich jest bardzo dobrze wykwalifikowana. Oni także wspierają niemieckie kasy socjalne. "Wykorzystywanie systemów socjalnych przez imigrantów" jest kłamstwem, które pojawia się ciągle przed wyborami.\n
SUMMARY:Wsparcie dla opieki społecznej
END:VEVENT
END:VCALENDAR
