BEGIN:VCALENDAR
X-WR-TIMEZONE:Europe/Berlin
X-WR-CALNAME:rbb-Kalender
VERSION:2.0
METHOD:PUBLISH
CALSCALE:GREGORIAN
PRODID:rbb-CMS DAY
BEGIN:VEVENT
CLASS:PUBLIC
URL:http://www.rbb-online.de/content/rbb/rbb/pl/kowalskiundschmidt/archiv/kowalski---schmidt-vom-19-01-2014/bluza-frak-z-gwiazd-dawida.html
DTEND:20140119T190000
DTSTART:20140119T183000
UID:/content/rbb/rbb/pl/kowalskiundschmidt/archiv/kowalski---schmidt-vom-19-01-2014/bluza-frak-z-gwiazd-dawida
DTSTAMP:20140405T193528
DESCRIPTION:Rozpoznawane są dzięki szarym bluzom dresowym: jako suknia koktajlowa, marynarka lub frak. Antonina Samecka i Klara Kowtun stworzyły półtora roku temu markę "Risk. Made in Warsaw". Hitem wśród niemieckich klientów jest kolekcja żydowska. Motto bluz z gwiazdą Dawida i świecznikiem menora: Bycie Żydem jest spoko i seksowne.\n\n\n
SUMMARY:Bluza frak z gwiazdą Dawida
END:VEVENT
END:VCALENDAR
