BEGIN:VCALENDAR
X-WR-TIMEZONE:Europe/Berlin
X-WR-CALNAME:rbb-Kalender
VERSION:2.0
METHOD:PUBLISH
CALSCALE:GREGORIAN
PRODID:rbb-CMS DAY
BEGIN:VEVENT
CLASS:PUBLIC
URL:http://www.rbb-online.de/content/rbb/rbb/pl/kowalskiundschmidt/archiv/kowalski---schmidt-vom-19-01-2014/windhunter-z-polski.html
DTEND:20140119T190000
DTSTART:20140119T183000
UID:/content/rbb/rbb/pl/kowalskiundschmidt/archiv/kowalski---schmidt-vom-19-01-2014/windhunter-z-polski
DTSTAMP:20140405T193707
DESCRIPTION:Dla Romana Synowskiego szukanie wiatru stało się życiową misją. Założył firmę na wybrzeżu pod Koszalinem. Razem ze swoim zespołem chce zachwycić Polaków odnawialnymi źródłami energii. Ten działający na całym świecie Windhunter uczył się rzemiosła w Berlinie. \n\n\n
SUMMARY:Windhunter z Polski
END:VEVENT
END:VCALENDAR
