BEGIN:VCALENDAR
X-WR-TIMEZONE:Europe/Berlin
X-WR-CALNAME:rbb-Kalender
VERSION:2.0
METHOD:PUBLISH
CALSCALE:GREGORIAN
PRODID:rbb-CMS DAY
BEGIN:VEVENT
CLASS:PUBLIC
URL:http://www.rbb-online.de/content/rbb/rbb/pl/kowalskiundschmidt/archiv/kowalski---schmidt-vom-24-11-2013/berli_skie-mi_dzyprzestrzenie.html
DTEND:20131124T190000
DTSTART:20131124T183000
UID:/content/rbb/rbb/pl/kowalskiundschmidt/archiv/kowalski---schmidt-vom-24-11-2013/berli_skie-mi_dzyprzestrzenie
DTSTAMP:20140407T125032
DESCRIPTION:Artyści żyjący i pracujący na pograniczu sfer, stworzyli na niewykorzystanym od 23 lat terenie w centrum Berlina tajemnicze i magiczne miejsce.\n\n\n
SUMMARY:Berlińskie międzyprzestrzenie
END:VEVENT
END:VCALENDAR
