BEGIN:VCALENDAR
X-WR-TIMEZONE:Europe/Berlin
X-WR-CALNAME:rbb-Kalender
VERSION:2.0
METHOD:PUBLISH
CALSCALE:GREGORIAN
PRODID:rbb-CMS DAY
BEGIN:VEVENT
CLASS:PUBLIC
URL:http://www.rbb-online.de/content/rbb/rbb/pl/kowalskiundschmidt/archiv/kowalski---schmidt-vom-24-11-2013/kogel-mogel-i--polnischer-abgang-.html
DTEND:20131124T190000
DTSTART:20131124T183000
UID:/content/rbb/rbb/pl/kowalskiundschmidt/archiv/kowalski---schmidt-vom-24-11-2013/kogel-mogel-i--polnischer-abgang-
DTSTAMP:20140407T125025
DESCRIPTION:Dzieci z polsko-niemieckiej szkoły im. Kathariny Heinroth w Berlinie wyjaśniają niemieckie i polskie pojęcia dla początkujących, dzisiaj: Sprache- Język/ Zunge i "Polnischer Abgang"/ "Polskie wyjście".\n\n\n
SUMMARY:Kogel Mogel i "Polnischer Abgang"
END:VEVENT
END:VCALENDAR
