BEGIN:VCALENDAR
X-WR-TIMEZONE:Europe/Berlin
X-WR-CALNAME:rbb-Kalender
VERSION:2.0
METHOD:PUBLISH
CALSCALE:GREGORIAN
PRODID:rbb-CMS DAY
BEGIN:VEVENT
CLASS:PUBLIC
URL:http://www.rbb-online.de/content/rbb/rbb/pl/kowalskiundschmidt/archiv/kowalski---schmidt-vom-24-11-2013/nowa-niemiecka-fala.html
DTEND:20131124T190000
DTSTART:20131124T183000
UID:/content/rbb/rbb/pl/kowalskiundschmidt/archiv/kowalski---schmidt-vom-24-11-2013/nowa-niemiecka-fala
DTSTAMP:20140407T125006
DESCRIPTION:"Heimatlieder aus Deutschland" - "Piosenki ojczyste z Niemiec" to muzyka z wnętrza Berlina, mówi berliński producent muzyczny Jochen Kühling i nie ma na myśli tradycyjnego niemieckiego folkloru á la Musikantenstadl, tylko muzykę emigrantów. W berlińskich barach i klubach znalazł 120 artystów 13 narodowości.\n\n\n
SUMMARY:Nowa niemiecka fala
END:VEVENT
END:VCALENDAR
