BEGIN:VCALENDAR
X-WR-TIMEZONE:Europe/Berlin
X-WR-CALNAME:rbb-Kalender
VERSION:2.0
METHOD:PUBLISH
CALSCALE:GREGORIAN
PRODID:rbb-CMS DAY
BEGIN:VEVENT
CLASS:PUBLIC
URL:http://www.rbb-online.de/content/rbb/rbb/pl/kowalskiundschmidt/archiv/kowalski---schmidt-vom-24-11-2013/poezja-_aczy.html
DTEND:20131124T190000
DTSTART:20131124T183000
UID:/content/rbb/rbb/pl/kowalskiundschmidt/archiv/kowalski---schmidt-vom-24-11-2013/poezja-_aczy
DTSTAMP:20140407T125022
DESCRIPTION:Urim Jusuf zafascynowany jest wierszem "Mein Leben"/ "Moje życie". Na konkurs "Poesie verbindet- poezja łączy" przygotował własną interpretację swojego ulubionego wiersza.\n\n\n
SUMMARY:Poezja łaczy
END:VEVENT
END:VCALENDAR
