BEGIN:VCALENDAR
X-WR-TIMEZONE:Europe/Berlin
X-WR-CALNAME:rbb-Kalender
VERSION:2.0
METHOD:PUBLISH
CALSCALE:GREGORIAN
PRODID:rbb-CMS DAY
BEGIN:VEVENT
CLASS:PUBLIC
URL:http://www.rbb-online.de/content/rbb/rbb/pl/kowalskiundschmidt/archiv/kowalski---schmidt-vom-27-10-2013/do-polski-z-bol_cym-zbem.html
DTEND:20131027T190000
DTSTART:20131027T183000
UID:/content/rbb/rbb/pl/kowalskiundschmidt/archiv/kowalski---schmidt-vom-27-10-2013/do-polski-z-bol_cym-zbem
DTSTAMP:20140407T124741
DESCRIPTION:Opieka lekarska jest na najnowszym poziomie medycznym – a kosztuje często tylko połowę! Nic dziwnego, że coraz więcej Niemców daje sobie zrobić koronki, mostki i implanty w Polsce. Odwiedzamy mekkę stomatologii, Szczecin.\n\n\n\n\n
SUMMARY:Do Polski z bolącym zębem
END:VEVENT
END:VCALENDAR
