BEGIN:VCALENDAR
X-WR-TIMEZONE:Europe/Berlin
X-WR-CALNAME:rbb-Kalender
VERSION:2.0
METHOD:PUBLISH
CALSCALE:GREGORIAN
PRODID:rbb-CMS DAY
BEGIN:VEVENT
CLASS:PUBLIC
URL:http://www.rbb-online.de/content/rbb/rbb/pl/kowalskiundschmidt/archiv/kowalski---schmidt-vom-27-10-2013/miejsce.html
DTEND:20131027T190000
DTSTART:20131027T183000
UID:/content/rbb/rbb/pl/kowalskiundschmidt/archiv/kowalski---schmidt-vom-27-10-2013/miejsce
DTSTAMP:20140407T124720
DESCRIPTION:Już w listopadzie 1945 roku Związek Radziecki postawił w Seelow pomnik ku pamięci poległych żołnierzy Armii Czerwonej. Ponad 50.000 radzieckich i niemieckich żolnierzy poległo tu w bezsensownej bitwie tuż przed końcem wojny. Dziś wystawa pokazuje jak pamięć i wspomnienie o przeszłości zmieniały się w czasie niemiecko-niemieckiej historii.\n\n\n
SUMMARY:Miejsce pamięci Seelower Höhen w trzech aktach
END:VEVENT
END:VCALENDAR
