BEGIN:VCALENDAR
X-WR-TIMEZONE:Europe/Berlin
X-WR-CALNAME:rbb-Kalender
VERSION:2.0
METHOD:PUBLISH
CALSCALE:GREGORIAN
PRODID:rbb-CMS DAY
BEGIN:VEVENT
CLASS:PUBLIC
URL:http://www.rbb-online.de/content/rbb/rbb/pl/kowalskiundschmidt/archiv/kowalski---schmidt-vom-30-03-2014.html
DTEND:20140330T190000
DTSTART:20140330T183000
UID:/content/rbb/rbb/pl/kowalskiundschmidt/archiv/kowalski---schmidt-vom-30-03-2014
DTSTAMP:20140405T193621
DESCRIPTION:+ Niemiec w pałacu\n\n+ Porta Polonica w Bochum\n\n+ „Biegnij chłopcze, biegnij“\n\n+ Koreańczyk w Berlinie\n\n+ Kogel-Mogel\n\n\n
SUMMARY:Kowalski & Schmidt vom 30.03.2014
END:VEVENT
END:VCALENDAR
