BEGIN:VCALENDAR
X-WR-TIMEZONE:Europe/Berlin
X-WR-CALNAME:rbb-Kalender
VERSION:2.0
METHOD:PUBLISH
CALSCALE:GREGORIAN
PRODID:rbb-CMS DAY
BEGIN:VEVENT
CLASS:PUBLIC
URL:http://www.rbb-online.de/content/rbb/rbb/pl/kowalskiundschmidt/archiv/kowalski---schmidt-vom-30-03-2014/-biegnij-ch_opcze--biegnij-.html
DTEND:20140330T190000
DTSTART:20140330T183000
UID:/content/rbb/rbb/pl/kowalskiundschmidt/archiv/kowalski---schmidt-vom-30-03-2014/-biegnij-ch_opcze--biegnij-
DTSTAMP:20140405T193515
DESCRIPTION:Dziewięcioletniemu Srulikowi udała się w czasie drugiej wojny światowej ucieczka z warszawskiego getta. Dwa lata ukrywał się w lesie. Aby przeżyć, utrzymywał w tajemnicy swoje żydowskie pochodzenie i podawał się za sierotę z katolickiej rodziny. Dziś Srulik żyje jako Yoram Fridman w Izraelu. Wzruszajaca historia jego ucieczki nakręcona przez Pepe Danquarta będzie miała 2 kwietnia w Berlinie swoją premierę.\n
SUMMARY:"Biegnij chłopcze, biegnij"
END:VEVENT
END:VCALENDAR
