BEGIN:VCALENDAR
X-WR-TIMEZONE:Europe/Berlin
X-WR-CALNAME:rbb-Kalender
VERSION:2.0
METHOD:PUBLISH
CALSCALE:GREGORIAN
PRODID:rbb-CMS DAY
BEGIN:VEVENT
CLASS:PUBLIC
URL:http://www.rbb-online.de/content/rbb/rbb/pl/kowalskiundschmidt/archiv/kowalski---schmidt-vom-30-03-2014/niemiec-w-pa_acu.html
DTEND:20140330T190000
DTSTART:20140330T183000
UID:/content/rbb/rbb/pl/kowalskiundschmidt/archiv/kowalski---schmidt-vom-30-03-2014/niemiec-w-pa_acu
DTSTAMP:20140405T193543
DESCRIPTION:Alexander Watin pracował w Polsce przez wiele lat dla niemieckiego przemysłu farmaceutycznego. Za zarobione pieniądze kupił razem ze swoją polską żoną stary pała.\n
SUMMARY:Niemiec w pałacu
END:VEVENT
END:VCALENDAR
