BEGIN:VCALENDAR
X-WR-TIMEZONE:Europe/Berlin
X-WR-CALNAME:rbb-Kalender
VERSION:2.0
METHOD:PUBLISH
CALSCALE:GREGORIAN
PRODID:rbb-CMS DAY
BEGIN:VEVENT
CLASS:PUBLIC
URL:http://www.rbb-online.de/content/rbb/rbb/pl/kowalskiundschmidt/archiv/kowalski---schmidt-vom-30-03-2014/porta-polonica-w-bochum.html
DTEND:20140330T190000
DTSTART:20140330T183000
UID:/content/rbb/rbb/pl/kowalskiundschmidt/archiv/kowalski---schmidt-vom-30-03-2014/porta-polonica-w-bochum
DTSTAMP:20140405T193637
DESCRIPTION:W dziewiętnastym wieku przyjechali do Zagłębia Ruhry jako robotnicy. Dziś Polacy są jedną z najlepiej zintegrowanych grup wśród obcokrajowców. Ich historię ma przedstawić "Polnisches Haus" czyli  "Dom Polski" - centrum dokumentacji powstające obecnie w Bochum.\n
SUMMARY:Porta Polonica w Bochum
END:VEVENT
END:VCALENDAR
