BEGIN:VCALENDAR
X-WR-TIMEZONE:Europe/Berlin
X-WR-CALNAME:rbb-Kalender
VERSION:2.0
METHOD:PUBLISH
CALSCALE:GREGORIAN
PRODID:rbb-CMS DAY
BEGIN:VEVENT
CLASS:PUBLIC
URL:http://www.rbb-online.de/content/rbb/rbb/pl/kowalskiundschmidt/archiv/kowalski-schmidt-vom-18-08-2013.html
DTEND:20130818T183000
DTSTART:20130818T183000
UID:/content/rbb/rbb/pl/kowalskiundschmidt/archiv/kowalski-schmidt-vom-18-08-2013
DTSTAMP:20140408T002759
DESCRIPTION:++ KAPITAŁ jako lektura\n\n\n++ Z Odessy do Szprewaldu\n\n\n\n++ W poszukiwaniu rodziców\n\n\n\n++ Bigos przy dźwiękach Tekkno-Polo\n\n\n\n++ Kogiel-Mogiel nazywa się Zucker-Ei\n\n\n
SUMMARY:Kowalski & Schmidt vom 18.08.2013
END:VEVENT
END:VCALENDAR
